BEGIN:VCALENDAR
VERSION:2.0
PRODID:-//hacksw/handcal//NONSGML v1.0//EN
BEGIN:VEVENT
SUMMARY:minibus ( foot ) ( stage )
UID:4a54f0dd-7395-4bc2-bdc7-57f0b5e8e0ea
DTSTART:20260407T070000Z
DTEND:20260409T170000Z
LOCATION:Localisation   
CATEGORIES:Sportif
STATUS:
URL;VALUE=URI:https://www.unionsportivecrestoise.com/evenements/2026/04/07/minibus-foot-stage-2426670
END:VEVENT
END:VCALENDAR
