BEGIN:VCALENDAR
VERSION:2.0
PRODID:-//hacksw/handcal//NONSGML v1.0//EN
BEGIN:VEVENT
SUMMARY:Salle reservee ( cyclotourisme)
UID:a7f6c6fe-91a5-4f4a-adc3-fa4c14082083
DTSTART:20260407T160000Z
DTEND:20260407T190000Z
LOCATION:Localisation   
CATEGORIES:Sportif
STATUS:
URL;VALUE=URI:https://www.unionsportivecrestoise.com/evenements/2026/04/07/salle-reservee-cyclotourisme-2433949
END:VEVENT
END:VCALENDAR
