BEGIN:VCALENDAR
VERSION:2.0
PRODID:-//hacksw/handcal//NONSGML v1.0//EN
BEGIN:VEVENT
SUMMARY:Minibus ( foot)
UID:cd7aa835-6c17-48ba-bea8-f3a1477fad4b
DTSTART:20260412T060000Z
DTEND:20260412T180000Z
LOCATION:Localisation   
CATEGORIES:Sportif
STATUS:
URL;VALUE=URI:https://www.unionsportivecrestoise.com/evenements/2026/04/12/minibus-foot-2439258
END:VEVENT
END:VCALENDAR
