BEGIN:VCALENDAR
VERSION:2.0
PRODID:-//hacksw/handcal//NONSGML v1.0//EN
BEGIN:VEVENT
SUMMARY:Minibus ( Petanque )
UID:7b9dc29c-abb5-4720-a898-aea6967b17ef
DTSTART:20260414T050000Z
DTEND:20260414T190000Z
LOCATION:Localisation   
CATEGORIES:Sportif
STATUS:
URL;VALUE=URI:https://www.unionsportivecrestoise.com/evenements/2026/04/14/minibus-petanque-2438916
END:VEVENT
END:VCALENDAR
