BEGIN:VCALENDAR
VERSION:2.0
PRODID:-//hacksw/handcal//NONSGML v1.0//EN
BEGIN:VEVENT
SUMMARY:Minibus reserve ( USC Marcial )
UID:316f2aee-f9b5-472c-b672-456658030dea
DTSTART:20260417T120000Z
DTEND:20260417T210000Z
LOCATION:Localisation   
CATEGORIES:Sportif
STATUS:
URL;VALUE=URI:https://www.unionsportivecrestoise.com/evenements/2026/04/17/minibus-reserve-usc-marcial-2440755
END:VEVENT
END:VCALENDAR
