BEGIN:VCALENDAR
VERSION:2.0
PRODID:-//hacksw/handcal//NONSGML v1.0//EN
BEGIN:VEVENT
SUMMARY:reservation salle USC ( Marathon , challenge vallee Drome )
UID:d6acb4d2-0aeb-49ec-b3fd-8fad0b4ffb96
DTSTART:20260417T163000Z
DTEND:20260417T200000Z
LOCATION:Localisation   
CATEGORIES:Sportif
STATUS:
URL;VALUE=URI:https://www.unionsportivecrestoise.com/evenements/2026/04/17/reservation-salle-usc-marathon-challenge-vallee-drome-2440054
END:VEVENT
END:VCALENDAR
