BEGIN:VCALENDAR
VERSION:2.0
PRODID:-//hacksw/handcal//NONSGML v1.0//EN
BEGIN:VEVENT
SUMMARY:Minibus ( Boxe/ Savate ) Montelimar
UID:bd67895c-b7ab-4498-9b6e-0421d803876b
DTSTART:20260426T050000Z
DTEND:20260426T210000Z
LOCATION:Localisation   Montelimar
CATEGORIES:Sportif
STATUS:
URL;VALUE=URI:https://www.unionsportivecrestoise.com/evenements/2026/04/26/minibus-boxe-savate-montelimar-2442678
END:VEVENT
END:VCALENDAR
