BEGIN:VCALENDAR
VERSION:2.0
PRODID:-//hacksw/handcal//NONSGML v1.0//EN
BEGIN:VEVENT
SUMMARY:Minibus (CAC) Grenoble
UID:980c6657-3506-4212-aade-e3eca155c66c
DTSTART:20260502T050000Z
DTEND:20260502T190000Z
LOCATION:Localisation   
CATEGORIES:Sportif
STATUS:
URL;VALUE=URI:https://www.unionsportivecrestoise.com/evenements/2026/05/02/minibus-cac-grenoble-2441036
END:VEVENT
END:VCALENDAR
