BEGIN:VCALENDAR
VERSION:2.0
PRODID:-//hacksw/handcal//NONSGML v1.0//EN
BEGIN:VEVENT
SUMMARY:Reservation de deux barnum 3 par 3 pour le CACReservation de deux barnum 3 par 3 pour le CAC
UID:1e99823b-9b01-4c64-99b7-d1169ed7b801
DTSTART:20260502T050000Z
DTEND:20260502T200000Z
LOCATION:Localisation   
CATEGORIES:Sportif
STATUS:
URL;VALUE=URI:https://www.unionsportivecrestoise.com/evenements/2026/05/02/reservation-de-deux-barnum-3-par-3-pour-le-cacreservation-de-deux-barnum-3-par-3-pour-le-cac-2434141
END:VEVENT
END:VCALENDAR
