BEGIN:VCALENDAR
VERSION:2.0
PRODID:-//hacksw/handcal//NONSGML v1.0//EN
BEGIN:VEVENT
SUMMARY:minibus ( USC challenge courses enfants
UID:2d7d7e9d-4dc2-47f5-93d9-1c53ebe152a1
DTSTART:20260508T050000Z
DTEND:20260511T210000Z
LOCATION:Localisation   
CATEGORIES:Sportif
STATUS:
URL;VALUE=URI:https://www.unionsportivecrestoise.com/evenements/2026/05/08/minibus-usc-challenge-courses-enfants-2307205
END:VEVENT
END:VCALENDAR
