BEGIN:VCALENDAR
VERSION:2.0
PRODID:-//hacksw/handcal//NONSGML v1.0//EN
BEGIN:VEVENT
SUMMARY:Reserve USC ( bus et salle)
UID:a7f2dd81-de94-4fa3-9aa9-3b8c3a4c3c8f
DTSTART:20260516T050000Z
DTEND:20260516T214500Z
LOCATION:Localisation   
CATEGORIES:Manifestation
STATUS:
URL;VALUE=URI:https://www.unionsportivecrestoise.com/evenements/2026/05/16/reserve-usc-bus-et-salle-2433461
END:VEVENT
END:VCALENDAR
