BEGIN:VCALENDAR
VERSION:2.0
PRODID:-//hacksw/handcal//NONSGML v1.0//EN
BEGIN:VEVENT
SUMMARY:salle reserve ( Cyclotourisme )
UID:00e607c4-9963-4637-9f26-225c8b71bf33
DTSTART:20260526T150000Z
DTEND:20260526T200000Z
LOCATION:Localisation   
CATEGORIES:Administratif
STATUS:
URL;VALUE=URI:https://www.unionsportivecrestoise.com/evenements/2026/05/26/salle-reserve-cyclotourisme-2427234
END:VEVENT
END:VCALENDAR
