BEGIN:VCALENDAR
VERSION:2.0
PRODID:-//hacksw/handcal//NONSGML v1.0//EN
BEGIN:VEVENT
SUMMARY:salle reserve (tour et detours )
UID:2246d3da-00b3-40eb-81de-b8483826e164
DTSTART:20260608T120000Z
DTEND:20260608T150000Z
LOCATION:Localisation   
CATEGORIES:Sportif
STATUS:
URL;VALUE=URI:https://www.unionsportivecrestoise.com/evenements/2026/06/08/salle-reserve-tour-et-detours-2426684
END:VEVENT
END:VCALENDAR
