BEGIN:VCALENDAR
VERSION:2.0
PRODID:-//hacksw/handcal//NONSGML v1.0//EN
BEGIN:VEVENT
SUMMARY:salle reserve (tour et detours )
UID:0939b569-f372-418c-a338-4e69e8c4e7d4
DTSTART:20260609T120000Z
DTEND:20260609T160000Z
LOCATION:Localisation   
CATEGORIES:Administratif
STATUS:
URL;VALUE=URI:https://www.unionsportivecrestoise.com/evenements/2026/06/09/salle-reserve-tour-et-detours-2426677
END:VEVENT
END:VCALENDAR
