BEGIN:VCALENDAR
VERSION:2.0
PRODID:-//hacksw/handcal//NONSGML v1.0//EN
BEGIN:VEVENT
SUMMARY:Reservation 3 barnums ( tour et detours )
UID:557e7780-5b74-44ce-8854-030584b38993
DTSTART:20260704T050000Z
DTEND:20260704T200000Z
LOCATION:Localisation   
CATEGORIES:Manifestation
STATUS:
URL;VALUE=URI:https://www.unionsportivecrestoise.com/evenements/2026/07/04/reservation-3-barnums-tour-et-detours-2429246
END:VEVENT
END:VCALENDAR
