BEGIN:VCALENDAR
VERSION:2.0
PRODID:-//hacksw/handcal//NONSGML v1.0//EN
BEGIN:VEVENT
SUMMARY:Minibus ( petanque Aouste )
UID:f8f7e1b7-5a73-4b33-9c6a-be99302912a2
DTSTART:20260905T060000Z
DTEND:20260905T214500Z
LOCATION:Localisation   
CATEGORIES:Sportif
STATUS:
URL;VALUE=URI:https://www.unionsportivecrestoise.com/evenements/2026/09/05/minibus-petanque-aouste-2424467
END:VEVENT
END:VCALENDAR
