BEGIN:VCALENDAR
VERSION:2.0
PRODID:-//hacksw/handcal//NONSGML v1.0//EN
BEGIN:VEVENT
SUMMARY:Minibus ( reserve Dorier " )
UID:0394bad2-8f72-45ba-94bf-5fb1d5f24a18
DTSTART:20270305T060000Z
DTEND:20270308T190000Z
LOCATION:Localisation   
CATEGORIES:Sportif
STATUS:
URL;VALUE=URI:https://www.unionsportivecrestoise.com/evenements/2027/03/05/minibus-reserve-dorier-2441132
END:VEVENT
END:VCALENDAR
